BEGIN:VCALENDAR
VERSION:2.0
PRODID:-//hacksw/handcal//NONSGML v1.0//EN
CALSCALE:GREGORIAN
BEGIN:VEVENT
LOCATION:Barcelona
DESCRIPTION:
DTSTART:20181016T174500Z
DTEND:20181016T174500Z
SUMMARY:Diàleg: "Sense barris no hi ha Barcelona". Ciutat Oberta
URL;VALUE=URI:https://arquitectes.cat/ca/content/di%C3%A0leg-sense-barris-no-hi-ha-barcelona-ciutat-oberta
DTSTAMP:20260425T014833Z
UID:69ec01514a9f5
END:VEVENT
END:VCALENDAR