BEGIN:VCALENDAR
VERSION:2.0
PRODID:-//hacksw/handcal//NONSGML v1.0//EN
CALSCALE:GREGORIAN
BEGIN:VEVENT
LOCATION:Barcelona
DESCRIPTION:
DTSTART:20181020T090000Z
DTEND:20181020T090000Z
SUMMARY:Festa "Disseny en família" al Museu del Disseny 
URL;VALUE=URI:https://arquitectes.cat/ca/content/festa-disseny-en-fam%C3%ADlia-al-museu-del-disseny
DTSTAMP:20260419T170556Z
UID:69e4ef544c5f3
END:VEVENT
END:VCALENDAR