BEGIN:VCALENDAR
VERSION:2.0
PRODID:-//hacksw/handcal//NONSGML v1.0//EN
CALSCALE:GREGORIAN
BEGIN:VEVENT
LOCATION:Barcelona
DESCRIPTION:
DTSTART:20181012T080000Z
DTEND:20181118T180000Z
SUMMARY:Exposició "La corba màgica: moble de faig i rotang"
URL;VALUE=URI:https://arquitectes.cat/ca/content/exposici%C3%B3-la-corba-m%C3%A0gica-moble-de-faig-i-rotang
DTSTAMP:20260420T071953Z
UID:69e5b77901da0
END:VEVENT
END:VCALENDAR