BEGIN:VCALENDAR
VERSION:2.0
PRODID:-//hacksw/handcal//NONSGML v1.0//EN
CALSCALE:GREGORIAN
BEGIN:VEVENT
LOCATION:Barcelona
DESCRIPTION:
DTSTART:20180928T080000Z
DTEND:20190127T180000Z
SUMMARY:Exposición: "Obras abiertas. El arte en movimiento\, 1955-1975"
URL;VALUE=URI:https://arquitectes.cat/ca/node/30181
DTSTAMP:20260419T151301Z
UID:69e4d4ddabdf7
END:VEVENT
END:VCALENDAR