BEGIN:VCALENDAR
VERSION:2.0
PRODID:-//hacksw/handcal//NONSGML v1.0//EN
CALSCALE:GREGORIAN
BEGIN:VEVENT
LOCATION:Barcelona
DESCRIPTION:
DTSTART:20180925T063000Z
DTEND:20180925T063000Z
SUMMARY:Esmorzars d'interiorisme. Implicacions de la nova arquitectura
URL;VALUE=URI:https://arquitectes.cat/ca/content/esmorzars-dinteriorisme-implicacions-de-la-nova-arquitectura
DTSTAMP:20260420T013220Z
UID:69e56604dce46
END:VEVENT
END:VCALENDAR