BEGIN:VCALENDAR
VERSION:2.0
PRODID:-//hacksw/handcal//NONSGML v1.0//EN
CALSCALE:GREGORIAN
BEGIN:VEVENT
LOCATION:Barcelona
DESCRIPTION:
DTSTART:20180915T150000Z
DTEND:20180915T150000Z
SUMMARY:Taller "Construïm una ciutat per a tothom"
URL;VALUE=URI:https://arquitectes.cat/ca/content/taller-constru%C3%AFm-una-ciutat-tothom-0
DTSTAMP:20260426T033217Z
UID:69ed6b21e0094
END:VEVENT
END:VCALENDAR