BEGIN:VCALENDAR
VERSION:2.0
PRODID:-//hacksw/handcal//NONSGML v1.0//EN
CALSCALE:GREGORIAN
BEGIN:VEVENT
LOCATION:Barcelona
DESCRIPTION:
DTSTART:20180916T090000Z
DTEND:20180916T090000Z
SUMMARY:Itinerari "La Barcelona del GATCPAC"
URL;VALUE=URI:https://arquitectes.cat/ca/content/itinerari-la-barcelona-del-gatcpac-9
DTSTAMP:20260420T031430Z
UID:69e57df6865b4
END:VEVENT
END:VCALENDAR