BEGIN:VCALENDAR
VERSION:2.0
PRODID:-//hacksw/handcal//NONSGML v1.0//EN
CALSCALE:GREGORIAN
BEGIN:VEVENT
LOCATION:Barcelona
DESCRIPTION:
DTSTART:20180916T090000Z
DTEND:20180916T090000Z
SUMMARY:Itinerario "La Barcelona del GATCPAC"
URL;VALUE=URI:https://arquitectes.cat/ca/node/30170
DTSTAMP:20260425T145941Z
UID:69ecbabd71799
END:VEVENT
END:VCALENDAR