BEGIN:VCALENDAR
VERSION:2.0
PRODID:-//hacksw/handcal//NONSGML v1.0//EN
CALSCALE:GREGORIAN
BEGIN:VEVENT
LOCATION:Barcelona
DESCRIPTION:
DTSTART:20181013T090000Z
DTEND:20181013T090000Z
SUMMARY:Visita guiada a la Casa Bloc
URL;VALUE=URI:https://arquitectes.cat/ca/node/30152
DTSTAMP:20260423T195754Z
UID:69ea5da21c166
END:VEVENT
END:VCALENDAR