BEGIN:VCALENDAR
VERSION:2.0
PRODID:-//hacksw/handcal//NONSGML v1.0//EN
CALSCALE:GREGORIAN
BEGIN:VEVENT
LOCATION:Barcelona
DESCRIPTION:
DTSTART:20181020T090000Z
DTEND:20181020T090000Z
SUMMARY:Guided tour to the Casa Bloc
URL;VALUE=URI:https://arquitectes.cat/ca/node/30148
DTSTAMP:20260423T213141Z
UID:69ea739d69e90
END:VEVENT
END:VCALENDAR