BEGIN:VCALENDAR
VERSION:2.0
PRODID:-//hacksw/handcal//NONSGML v1.0//EN
CALSCALE:GREGORIAN
BEGIN:VEVENT
LOCATION:Barcelona
DESCRIPTION:
DTSTART:20181021T090000Z
DTEND:20181021T090000Z
SUMMARY:Itinerario "La Barcelona del GATCPAC"
URL;VALUE=URI:https://arquitectes.cat/ca/node/30143
DTSTAMP:20260423T051107Z
UID:69e98dcbf3c39
END:VEVENT
END:VCALENDAR