BEGIN:VCALENDAR
VERSION:2.0
PRODID:-//hacksw/handcal//NONSGML v1.0//EN
CALSCALE:GREGORIAN
BEGIN:VEVENT
LOCATION:Barcelona
DESCRIPTION:
DTSTART:20180925T063000Z
DTEND:20180925T063000Z
SUMMARY:Desayunos de interiorismo. Implicaciones de la nueva arquitectura
URL;VALUE=URI:https://arquitectes.cat/ca/node/30138
DTSTAMP:20260419T215402Z
UID:69e532daa0645
END:VEVENT
END:VCALENDAR