BEGIN:VCALENDAR
VERSION:2.0
PRODID:-//hacksw/handcal//NONSGML v1.0//EN
CALSCALE:GREGORIAN
BEGIN:VEVENT
LOCATION:Girona
DESCRIPTION:
DTSTART:20180921T080000Z
DTEND:20190120T180000Z
SUMMARY:Visita en familia: Ramon Pichot. De 'Els Quatre Gats' a la Maison Rose
URL;VALUE=URI:https://arquitectes.cat/ca/node/30059
DTSTAMP:20260426T000456Z
UID:69ed3a88d97f1
END:VEVENT
END:VCALENDAR