BEGIN:VCALENDAR
VERSION:2.0
PRODID:-//hacksw/handcal//NONSGML v1.0//EN
CALSCALE:GREGORIAN
BEGIN:VEVENT
LOCATION:Tarragona
DESCRIPTION:
DTSTART:20181018T173000Z
DTEND:20181018T173000Z
SUMMARY:"Humanizar". Conferencia de TEd’A arquitectes
URL;VALUE=URI:https://arquitectes.cat/ca/node/30051
DTSTAMP:20260420T000806Z
UID:69e55246a5a2f
END:VEVENT
END:VCALENDAR