BEGIN:VCALENDAR
VERSION:2.0
PRODID:-//hacksw/handcal//NONSGML v1.0//EN
CALSCALE:GREGORIAN
BEGIN:VEVENT
LOCATION:Tarragona
DESCRIPTION:
DTSTART:20181026T051500Z
DTEND:20181028T190000Z
SUMMARY:Viatge a Bilbao 2018
URL;VALUE=URI:https://arquitectes.cat/ca/content/viatge-bilbao-2018
DTSTAMP:20260423T055729Z
UID:69e998a9d0754
END:VEVENT
END:VCALENDAR