BEGIN:VCALENDAR
VERSION:2.0
PRODID:-//hacksw/handcal//NONSGML v1.0//EN
CALSCALE:GREGORIAN
BEGIN:VEVENT
LOCATION:
DESCRIPTION:
DTSTART:20131114T153000Z
DTEND:20131114T153000Z
SUMMARY:"Fotografies FUSIÓ". Xavier Vilagran y Cristina Lloret
URL;VALUE=URI:https://arquitectes.cat/ca/node/29944
DTSTAMP:20260419T194134Z
UID:69e513ce67b0e
END:VEVENT
END:VCALENDAR