BEGIN:VCALENDAR
VERSION:2.0
PRODID:-//hacksw/handcal//NONSGML v1.0//EN
CALSCALE:GREGORIAN
BEGIN:VEVENT
LOCATION:Santa Coloma de Gramenet
DESCRIPTION:
DTSTART:20180704T163000Z
DTEND:20180715T183000Z
SUMMARY:Exposició a Can Sisteré: "Col·leccions COAC.15 / Manolo Laguillo. El Besòs"
URL;VALUE=URI:https://arquitectes.cat/ca/content/exposici%C3%B3-can-sister%C3%A9-col%C2%B7leccions-coac15-manolo-laguillo-el-bes%C3%B2s
DTSTAMP:20260420T071852Z
UID:69e5b73cc4c22
END:VEVENT
END:VCALENDAR