BEGIN:VCALENDAR
VERSION:2.0
PRODID:-//hacksw/handcal//NONSGML v1.0//EN
CALSCALE:GREGORIAN
BEGIN:VEVENT
LOCATION:Barcelona
DESCRIPTION:
DTSTART:20180703T170000Z
DTEND:20180703T170000Z
SUMMARY:Presentació de Living Places - Premi Simon d'Arquitectura 2018
URL;VALUE=URI:https://arquitectes.cat/ca/content/presentaci%C3%B3-de-living-places-premi-simon-darquitectura-2018-0
DTSTAMP:20260423T090119Z
UID:69e9c3bfcb9f0
END:VEVENT
END:VCALENDAR