BEGIN:VCALENDAR
VERSION:2.0
PRODID:-//hacksw/handcal//NONSGML v1.0//EN
CALSCALE:GREGORIAN
BEGIN:VEVENT
LOCATION:Barcelona
DESCRIPTION:
DTSTART:20180715T100000Z
DTEND:20180715T100000Z
SUMMARY:Itinerario: "Historia y transformaciones en marcha entre Sant Andreu y Bon Pastor"
URL;VALUE=URI:https://arquitectes.cat/ca/node/29897
DTSTAMP:20260419T201000Z
UID:69e51a787b36c
END:VEVENT
END:VCALENDAR