BEGIN:VCALENDAR
VERSION:2.0
PRODID:-//hacksw/handcal//NONSGML v1.0//EN
CALSCALE:GREGORIAN
BEGIN:VEVENT
LOCATION:Barcelona
DESCRIPTION:
DTSTART:20180628T160000Z
DTEND:20180721T180000Z
SUMMARY:Exposició: "A tota màquina!"
URL;VALUE=URI:https://arquitectes.cat/ca/content/exposici%C3%B3-tota-m%C3%A0quina
DTSTAMP:20260422T205326Z
UID:69e919268ae7e
END:VEVENT
END:VCALENDAR