BEGIN:VCALENDAR
VERSION:2.0
PRODID:-//hacksw/handcal//NONSGML v1.0//EN
CALSCALE:GREGORIAN
BEGIN:VEVENT
LOCATION:Barcelona
DESCRIPTION:
DTSTART:20180715T090000Z
DTEND:20180715T090000Z
SUMMARY:Itinerario "La Barcelona del GATCPAC"
URL;VALUE=URI:https://arquitectes.cat/ca/node/29792
DTSTAMP:20260419T143750Z
UID:69e4cc9e12f7e
END:VEVENT
END:VCALENDAR