BEGIN:VCALENDAR
VERSION:2.0
PRODID:-//hacksw/handcal//NONSGML v1.0//EN
CALSCALE:GREGORIAN
BEGIN:VEVENT
LOCATION:Barcelona
DESCRIPTION:
DTSTART:20180715T090000Z
DTEND:20180715T090000Z
SUMMARY:Walking tour "The Barcelona of GATCPAC"
URL;VALUE=URI:https://arquitectes.cat/ca/node/29791
DTSTAMP:20260419T170625Z
UID:69e4ef7181f35
END:VEVENT
END:VCALENDAR