BEGIN:VCALENDAR
VERSION:2.0
PRODID:-//hacksw/handcal//NONSGML v1.0//EN
CALSCALE:GREGORIAN
BEGIN:VEVENT
LOCATION:Barcelona
DESCRIPTION:
DTSTART:20180628T170000Z
DTEND:20180706T180000Z
SUMMARY:Exposició "Centcelles en ús" a càrrec d'estudiants i alumni d'EINA
URL;VALUE=URI:https://arquitectes.cat/ca/content/exposici%C3%B3-centcelles%C2%A0en-%C3%BAs-c%C3%A0rrec-destudiants-i-alumni-deina
DTSTAMP:20260426T001037Z
UID:69ed3bdd3d53d
END:VEVENT
END:VCALENDAR