BEGIN:VCALENDAR
VERSION:2.0
PRODID:-//hacksw/handcal//NONSGML v1.0//EN
CALSCALE:GREGORIAN
BEGIN:VEVENT
LOCATION:Barcelona
DESCRIPTION:
DTSTART:20180529T170000Z
DTEND:20180529T170000Z
SUMMARY:Inici del cicle "Com a casa"
URL;VALUE=URI:https://arquitectes.cat/ca/content/inici-del-cicle-com-casa
DTSTAMP:20260425T161931Z
UID:69eccd73f293c
END:VEVENT
END:VCALENDAR