BEGIN:VCALENDAR
VERSION:2.0
PRODID:-//hacksw/handcal//NONSGML v1.0//EN
CALSCALE:GREGORIAN
BEGIN:VEVENT
LOCATION:Barcelona
DESCRIPTION:
DTSTART:20180605T140000Z
DTEND:20180614T180000Z
SUMMARY:Disseny experiencial. La percepció i sensació emocionals en el disseny d’espais
URL;VALUE=URI:https://arquitectes.cat/ca/content/disseny-experiencial-la-percepci%C3%B3-i-sensaci%C3%B3-emocionals-en-el-disseny-d%E2%80%99espais
DTSTAMP:20260419T193559Z
UID:69e5127febcc0
END:VEVENT
END:VCALENDAR