BEGIN:VCALENDAR
VERSION:2.0
PRODID:-//hacksw/handcal//NONSGML v1.0//EN
CALSCALE:GREGORIAN
BEGIN:VEVENT
LOCATION:Barcelona
DESCRIPTION:
DTSTART:20180613T080000Z
DTEND:20180613T080000Z
SUMMARY:"Barcelona Design Week 2018". LATENT. Dia del talent
URL;VALUE=URI:https://arquitectes.cat/ca/content/barcelona-design-week-2018-latent-dia-del-talent
DTSTAMP:20260419T225719Z
UID:69e541afeffbf
END:VEVENT
END:VCALENDAR