BEGIN:VCALENDAR
VERSION:2.0
PRODID:-//hacksw/handcal//NONSGML v1.0//EN
CALSCALE:GREGORIAN
BEGIN:VEVENT
LOCATION:Girona
DESCRIPTION:
DTSTART:20180609T133000Z
DTEND:20180609T133000Z
SUMMARY:Taller "Superfícies reglades"
URL;VALUE=URI:https://arquitectes.cat/ca/content/taller-superf%C3%ADcies-reglades
DTSTAMP:20260420T071823Z
UID:69e5b71f12dd3
END:VEVENT
END:VCALENDAR