BEGIN:VCALENDAR
VERSION:2.0
PRODID:-//hacksw/handcal//NONSGML v1.0//EN
CALSCALE:GREGORIAN
BEGIN:VEVENT
LOCATION:Barcelona
DESCRIPTION:
DTSTART:20180520T100000Z
DTEND:20180520T100000Z
SUMMARY:Itinerari: La ciutat transparent
URL;VALUE=URI:https://arquitectes.cat/ca/content/itinerari-la-ciutat-transparent-5
DTSTAMP:20260419T185835Z
UID:69e509bb6065a
END:VEVENT
END:VCALENDAR