BEGIN:VCALENDAR
VERSION:2.0
PRODID:-//hacksw/handcal//NONSGML v1.0//EN
CALSCALE:GREGORIAN
BEGIN:VEVENT
LOCATION:Barcelona
DESCRIPTION:
DTSTART:20180604T173000Z
DTEND:20180604T173000Z
SUMMARY:Presentació del llibre "La platja de Palma"
URL;VALUE=URI:https://arquitectes.cat/ca/content/presentaci%C3%B3-del-llibre-la-platja-de-palma
DTSTAMP:20260422T025505Z
UID:69e81c698d120
END:VEVENT
END:VCALENDAR