BEGIN:VCALENDAR
VERSION:2.0
PRODID:-//hacksw/handcal//NONSGML v1.0//EN
CALSCALE:GREGORIAN
BEGIN:VEVENT
LOCATION:Barcelona
DESCRIPTION:
DTSTART:20180518T073000Z
DTEND:20180518T073000Z
SUMMARY:Visita al Monestir de Santa Maria de Pedralbes
URL;VALUE=URI:https://arquitectes.cat/ca/content/visita-al-monestir-de-santa-maria-de-pedralbes
DTSTAMP:20260423T015418Z
UID:69e95faa02264
END:VEVENT
END:VCALENDAR