BEGIN:VCALENDAR
VERSION:2.0
PRODID:-//hacksw/handcal//NONSGML v1.0//EN
CALSCALE:GREGORIAN
BEGIN:VEVENT
LOCATION:Barcelona
DESCRIPTION:
DTSTART:20180516T143000Z
DTEND:20180516T143000Z
SUMMARY:Visita guiada a la bateria antiaèria del Turó de la Rovira
URL;VALUE=URI:https://arquitectes.cat/ca/content/visita-guiada-la-bateria-antia%C3%A8ria-del-tur%C3%B3-de-la-rovira
DTSTAMP:20260420T055404Z
UID:69e5a35ce2ec5
END:VEVENT
END:VCALENDAR