BEGIN:VCALENDAR
VERSION:2.0
PRODID:-//hacksw/handcal//NONSGML v1.0//EN
CALSCALE:GREGORIAN
BEGIN:VEVENT
LOCATION:Barcelona
DESCRIPTION:
DTSTART:20180516T153000Z
DTEND:20180516T153000Z
SUMMARY:Inspira't a La Fàbrica del Sol: Visita dansada
URL;VALUE=URI:https://arquitectes.cat/ca/content/inspirat-la-f%C3%A0brica-del-sol-visita-dansada
DTSTAMP:20260426T054131Z
UID:69ed896b52e5f
END:VEVENT
END:VCALENDAR