BEGIN:VCALENDAR
VERSION:2.0
PRODID:-//hacksw/handcal//NONSGML v1.0//EN
CALSCALE:GREGORIAN
BEGIN:VEVENT
LOCATION:Barcelona
DESCRIPTION:
DTSTART:20180514T070000Z
DTEND:20180515T180000Z
SUMMARY:"Architecture & the Media"
URL;VALUE=URI:https://arquitectes.cat/ca/content/architecture-media
DTSTAMP:20260419T233425Z
UID:69e54a6122c63
END:VEVENT
END:VCALENDAR