BEGIN:VCALENDAR
VERSION:2.0
PRODID:-//hacksw/handcal//NONSGML v1.0//EN
CALSCALE:GREGORIAN
BEGIN:VEVENT
LOCATION:Barcelona
DESCRIPTION:
DTSTART:20180510T170000Z
DTEND:20180520T180000Z
SUMMARY:Exposició: "Reflexions Arquitectura - Natura"
URL;VALUE=URI:https://arquitectes.cat/ca/content/exposici%C3%B3-reflexions-arquitectura-natura
DTSTAMP:20260419T230142Z
UID:69e542b685d9f
END:VEVENT
END:VCALENDAR