BEGIN:VCALENDAR
VERSION:2.0
PRODID:-//hacksw/handcal//NONSGML v1.0//EN
CALSCALE:GREGORIAN
BEGIN:VEVENT
LOCATION:Barcelona
DESCRIPTION:
DTSTART:20180515T170000Z
DTEND:20180515T170000Z
SUMMARY:Comissariar l’Arquitectura. 2a sessió del cicle "New Formats: Dream and Nature". 
URL;VALUE=URI:https://arquitectes.cat/ca/content/comissariar-l%E2%80%99arquitectura-2a-sessi%C3%B3-del-cicle-new-formats-dream-and-nature
DTSTAMP:20260422T000322Z
UID:69e7f42abc219
END:VEVENT
END:VCALENDAR