BEGIN:VCALENDAR
VERSION:2.0
PRODID:-//hacksw/handcal//NONSGML v1.0//EN
CALSCALE:GREGORIAN
BEGIN:VEVENT
LOCATION:Barcelona
DESCRIPTION:
DTSTART:20180517T170000Z
DTEND:20180517T170000Z
SUMMARY:Homenatge a Josep Llobet Gelmà (1960-2013). Delicadesa en els detalls
URL;VALUE=URI:https://arquitectes.cat/ca/content/homenatge-josep-llobet-gelm%C3%A0-1960-2013-delicadesa-en-els-detalls
DTSTAMP:20260420T013134Z
UID:69e565d6149d2
END:VEVENT
END:VCALENDAR