BEGIN:VCALENDAR
VERSION:2.0
PRODID:-//hacksw/handcal//NONSGML v1.0//EN
CALSCALE:GREGORIAN
BEGIN:VEVENT
LOCATION:Barcelona
DESCRIPTION:
DTSTART:20180505T150000Z
DTEND:20180505T150000Z
SUMMARY:Itinerari: Arqueologia vertical
URL;VALUE=URI:https://arquitectes.cat/ca/content/itinerari-arqueologia-vertical
DTSTAMP:20260419T224310Z
UID:69e53e5ee0e93
END:VEVENT
END:VCALENDAR