BEGIN:VCALENDAR
VERSION:2.0
PRODID:-//hacksw/handcal//NONSGML v1.0//EN
CALSCALE:GREGORIAN
BEGIN:VEVENT
LOCATION:Barcelona
DESCRIPTION:
DTSTART:20180506T090000Z
DTEND:20180506T090000Z
SUMMARY:Entre tallers i museus
URL;VALUE=URI:https://arquitectes.cat/ca/content/entre-tallers-i-museus
DTSTAMP:20260419T182848Z
UID:69e502c04dadc
END:VEVENT
END:VCALENDAR