BEGIN:VCALENDAR
VERSION:2.0
PRODID:-//hacksw/handcal//NONSGML v1.0//EN
CALSCALE:GREGORIAN
BEGIN:VEVENT
LOCATION:Barcelona
DESCRIPTION:
DTSTART:20180510T070000Z
DTEND:20180520T190000Z
SUMMARY:Exposición: "Arquitecturas desaparecidas"
URL;VALUE=URI:https://arquitectes.cat/ca/node/29359
DTSTAMP:20260422T100946Z
UID:69e8824a704ce
END:VEVENT
END:VCALENDAR