BEGIN:VCALENDAR
VERSION:2.0
PRODID:-//hacksw/handcal//NONSGML v1.0//EN
CALSCALE:GREGORIAN
BEGIN:VEVENT
LOCATION:Barcelona
DESCRIPTION:
DTSTART:20180608T173000Z
DTEND:20180608T173000Z
SUMMARY:IAAC // Lecture by Winy Maas - MVRDV / The Why Factory
URL;VALUE=URI:https://arquitectes.cat/ca/node/29323
DTSTAMP:20260419T175941Z
UID:69e4fbed3f812
END:VEVENT
END:VCALENDAR