BEGIN:VCALENDAR
VERSION:2.0
PRODID:-//hacksw/handcal//NONSGML v1.0//EN
CALSCALE:GREGORIAN
BEGIN:VEVENT
LOCATION:Tortosa
DESCRIPTION:
DTSTART:20180420T080000Z
DTEND:20180531T180000Z
SUMMARY:Exposició: "Landscape Km0"
URL;VALUE=URI:https://arquitectes.cat/ca/content/exposici%C3%B3-landscape-km0
DTSTAMP:20260419T145248Z
UID:69e4d02082c91
END:VEVENT
END:VCALENDAR