BEGIN:VCALENDAR
VERSION:2.0
PRODID:-//hacksw/handcal//NONSGML v1.0//EN
CALSCALE:GREGORIAN
BEGIN:VEVENT
LOCATION:Barcelona
DESCRIPTION:
DTSTART:20180513T090000Z
DTEND:20180520T180000Z
SUMMARY:Arquitectours: Sants-Montjuïc
URL;VALUE=URI:https://arquitectes.cat/ca/content/arquitectours-sants-montju%C3%AFc
DTSTAMP:20260422T190734Z
UID:69e90056d72c3
END:VEVENT
END:VCALENDAR