BEGIN:VCALENDAR
VERSION:2.0
PRODID:-//hacksw/handcal//NONSGML v1.0//EN
CALSCALE:GREGORIAN
BEGIN:VEVENT
LOCATION:Barcelona
DESCRIPTION:
DTSTART:20180518T170000Z
DTEND:20180518T170000Z
SUMMARY:Acto de entrega de los XI Premios AJAC
URL;VALUE=URI:https://arquitectes.cat/ca/node/29289
DTSTAMP:20260426T014723Z
UID:69ed528b5f041
END:VEVENT
END:VCALENDAR