BEGIN:VCALENDAR
VERSION:2.0
PRODID:-//hacksw/handcal//NONSGML v1.0//EN
CALSCALE:GREGORIAN
BEGIN:VEVENT
LOCATION:Barcelona
DESCRIPTION:
DTSTART:20180512T150000Z
DTEND:20180512T150000Z
SUMMARY:Construïm una ciutat per a tothom
URL;VALUE=URI:https://arquitectes.cat/ca/content/constru%C3%AFm-una-ciutat-tothom
DTSTAMP:20260419T230044Z
UID:69e5427cd512f
END:VEVENT
END:VCALENDAR