BEGIN:VCALENDAR
VERSION:2.0
PRODID:-//hacksw/handcal//NONSGML v1.0//EN
CALSCALE:GREGORIAN
BEGIN:VEVENT
LOCATION:Barcelona
DESCRIPTION:
DTSTART:20180513T080000Z
DTEND:20180513T080000Z
SUMMARY:Urban Sketch a la plaça Nova
URL;VALUE=URI:https://arquitectes.cat/ca/content/urban-sketch-la-pla%C3%A7a-nova
DTSTAMP:20260423T041709Z
UID:69e98125904f0
END:VEVENT
END:VCALENDAR