BEGIN:VCALENDAR
VERSION:2.0
PRODID:-//hacksw/handcal//NONSGML v1.0//EN
CALSCALE:GREGORIAN
BEGIN:VEVENT
LOCATION:Barcelona
DESCRIPTION:
DTSTART:20180511T163000Z
DTEND:20180511T163000Z
SUMMARY:Festa de l'Arquitectura 2018
URL;VALUE=URI:https://arquitectes.cat/ca/content/festa-de-larquitectura-2018
DTSTAMP:20260422T120927Z
UID:69e89e573b3ae
END:VEVENT
END:VCALENDAR