BEGIN:VCALENDAR
VERSION:2.0
PRODID:-//hacksw/handcal//NONSGML v1.0//EN
CALSCALE:GREGORIAN
BEGIN:VEVENT
LOCATION:Barcelona
DESCRIPTION:
DTSTART:20180506T090000Z
DTEND:20180506T090000Z
SUMMARY:Taller "La ciutat imaginada"
URL;VALUE=URI:https://arquitectes.cat/ca/content/taller-la-ciutat-imaginada
DTSTAMP:20260424T072923Z
UID:69eaffb363b4b
END:VEVENT
END:VCALENDAR