BEGIN:VCALENDAR
VERSION:2.0
PRODID:-//hacksw/handcal//NONSGML v1.0//EN
CALSCALE:GREGORIAN
BEGIN:VEVENT
LOCATION:Olot
DESCRIPTION:
DTSTART:20180427T193000Z
DTEND:20180427T193000Z
SUMMARY:Proyección de la película "Columbus"
URL;VALUE=URI:https://arquitectes.cat/ca/node/29137
DTSTAMP:20260419T233728Z
UID:69e54b18cd0a6
END:VEVENT
END:VCALENDAR