BEGIN:VCALENDAR
VERSION:2.0
PRODID:-//hacksw/handcal//NONSGML v1.0//EN
CALSCALE:GREGORIAN
BEGIN:VEVENT
LOCATION:Barcelona
DESCRIPTION:
DTSTART:20180405T170000Z
DTEND:20180405T170000Z
SUMMARY:Objecte de Desig (III): Nani Marquina i Ana Mir
URL;VALUE=URI:https://arquitectes.cat/ca/content/objecte-de-desig-iii-nani-marquina-i-ana-mir
DTSTAMP:20260421T192929Z
UID:69e7b3f9602f3
END:VEVENT
END:VCALENDAR