BEGIN:VCALENDAR
VERSION:2.0
PRODID:-//hacksw/handcal//NONSGML v1.0//EN
CALSCALE:GREGORIAN
BEGIN:VEVENT
LOCATION:
DESCRIPTION:
DTSTART:20180406T173000Z
DTEND:20180406T173000Z
SUMMARY:Mesa Redonda "La Casa Rozes a debate"
URL;VALUE=URI:https://arquitectes.cat/ca/node/29125
DTSTAMP:20260423T180905Z
UID:69ea44211dfa7
END:VEVENT
END:VCALENDAR